BEGIN:VCALENDAR
VERSION:2.0
PRODID:-//Weld County Democratic Party - ECPv6.15.20//NONSGML v1.0//EN
CALSCALE:GREGORIAN
METHOD:PUBLISH
X-WR-CALNAME:Weld County Democratic Party
X-ORIGINAL-URL:https://www.weldcountydems.org/?lang=es
X-WR-CALDESC:Eventos para Weld County Democratic Party
REFRESH-INTERVAL;VALUE=DURATION:PT1H
X-Robots-Tag:noindex
X-PUBLISHED-TTL:PT1H
BEGIN:VTIMEZONE
TZID:America/Denver
BEGIN:DAYLIGHT
TZOFFSETFROM:-0700
TZOFFSETTO:-0600
TZNAME:MDT
DTSTART:20250309T090000
END:DAYLIGHT
BEGIN:STANDARD
TZOFFSETFROM:-0600
TZOFFSETTO:-0700
TZNAME:MST
DTSTART:20251102T080000
END:STANDARD
BEGIN:DAYLIGHT
TZOFFSETFROM:-0700
TZOFFSETTO:-0600
TZNAME:MDT
DTSTART:20260308T090000
END:DAYLIGHT
BEGIN:STANDARD
TZOFFSETFROM:-0600
TZOFFSETTO:-0700
TZNAME:MST
DTSTART:20261101T080000
END:STANDARD
BEGIN:DAYLIGHT
TZOFFSETFROM:-0700
TZOFFSETTO:-0600
TZNAME:MDT
DTSTART:20270314T090000
END:DAYLIGHT
BEGIN:STANDARD
TZOFFSETFROM:-0600
TZOFFSETTO:-0700
TZNAME:MST
DTSTART:20271107T080000
END:STANDARD
END:VTIMEZONE
BEGIN:VEVENT
DTSTART;TZID=America/Denver:20260425T080000
DTEND;TZID=America/Denver:20260425T170000
DTSTAMP:20260425T100322
CREATED:20260421T190623Z
LAST-MODIFIED:20260421T190623Z
UID:10002585-1777104000-1777136400@www.weldcountydems.org
SUMMARY:¡Ayuda a dar la vuelta a HD19 y CD8!
DESCRIPTION:Oportunidad de sondeo profundo en Firestone el 25 de abril. \nLos tres candidatos demócratas al HD19 asistirán a nuestro sondeo profundo este fin de semana en Firestone. ¡Esperamos reclutar voluntarios para ayudar!  \nhttps://docs.google.com/forms/d/e/1FAIpQLSeXgKv33csAKLdtAKrJKeDvzZDiHJyXfN9RV5GdD0bmKaBqgA/viewform
URL:https://www.weldcountydems.org/wcd-event/ayuda-a-dar-la-vuelta-a-hd19-y-cd8/?lang=es
CATEGORIES:Escrutinio,Voluntario
ATTACH;FMTTYPE=image/jpeg:https://www.weldcountydems.org/wp-content/uploads/2026/04/deep-canvasing-4-25-26.jpg
END:VEVENT
BEGIN:VEVENT
DTSTART;TZID=America/Denver:20260425T110000
DTEND;TZID=America/Denver:20260425T113000
DTSTAMP:20260425T100322
CREATED:20260421T185708Z
LAST-MODIFIED:20260421T185708Z
UID:10002581-1777114800-1777116600@www.weldcountydems.org
SUMMARY:Acto de voluntariado - Carteles para el Congreso de Manny Rutinel
DESCRIPTION:¡Únete a nosotros para repartir carteles de jardín con el Equipo Manny este sábado 4.25 a las 11 de la mañana desde Lincoln Park en Greeley! Consigue un cartel para ti y ayuda a que lleguen a los patios de los simpatizantes de todo el condado de Weld.  \nInscríbete aquí: https://docs.google.com/forms/d/1yVKVVb9F66Y9oIisv8AjBiO2YCAdpXM8HRDptfuQm3c/edit
URL:https://www.weldcountydems.org/wcd-event/acto-de-voluntariado-carteles-para-el-congreso-de-manny-rutinel/?lang=es
LOCATION:Parque Lincoln\, Parque Lincoln\, Greeley\, CO\, 80631\, United States
CATEGORIES:Voluntario
ATTACH;FMTTYPE=image/jpeg:https://www.weldcountydems.org/wp-content/uploads/2026/02/manny-rutinel-cd-8-candidate-scaled.jpg
END:VEVENT
BEGIN:VEVENT
DTSTART;TZID=America/Denver:20260428T180000
DTEND;TZID=America/Denver:20260428T200000
DTSTAMP:20260425T100322
CREATED:20250303T202052Z
LAST-MODIFIED:20251116T171339Z
UID:10001734-1777399200-1777406400@www.weldcountydems.org
SUMMARY:Reunión del Consejo Municipal de Greeley
DESCRIPTION:Asiste a las reuniones del Consejo Municipal de Greeley cuando puedas. Esto nos ayuda a estar al tanto de lo que ocurre en Greeley y a tener la oportunidad de hacer preguntas y comentarios.
URL:https://www.weldcountydems.org/wcd-event/reunion-del-consejo-municipal-de-greeley__trashed/2026-04-28/?lang=es
LOCATION:Greeley City Council\, 1100 10th Street\, Greeley\, CO\, 80631\, United States
CATEGORIES:Ayuntamiento
ATTACH;FMTTYPE=image/jpeg:https://www.weldcountydems.org/wp-content/uploads/2025/03/new-city-council-nov-28-2023.jpg
END:VEVENT
END:VCALENDAR