BEGIN:VCALENDAR
VERSION:2.0
PRODID:-//Weld County Democratic Party - ECPv6.15.20//NONSGML v1.0//EN
CALSCALE:GREGORIAN
METHOD:PUBLISH
X-ORIGINAL-URL:https://www.weldcountydems.org
X-WR-CALDESC:Events for Weld County Democratic Party
REFRESH-INTERVAL;VALUE=DURATION:PT1H
X-Robots-Tag:noindex
X-PUBLISHED-TTL:PT1H
BEGIN:VTIMEZONE
TZID:America/Denver
BEGIN:DAYLIGHT
TZOFFSETFROM:-0700
TZOFFSETTO:-0600
TZNAME:MDT
DTSTART:20250309T090000
END:DAYLIGHT
BEGIN:STANDARD
TZOFFSETFROM:-0600
TZOFFSETTO:-0700
TZNAME:MST
DTSTART:20251102T080000
END:STANDARD
BEGIN:DAYLIGHT
TZOFFSETFROM:-0700
TZOFFSETTO:-0600
TZNAME:MDT
DTSTART:20260308T090000
END:DAYLIGHT
BEGIN:STANDARD
TZOFFSETFROM:-0600
TZOFFSETTO:-0700
TZNAME:MST
DTSTART:20261101T080000
END:STANDARD
BEGIN:DAYLIGHT
TZOFFSETFROM:-0700
TZOFFSETTO:-0600
TZNAME:MDT
DTSTART:20270314T090000
END:DAYLIGHT
BEGIN:STANDARD
TZOFFSETFROM:-0600
TZOFFSETTO:-0700
TZNAME:MST
DTSTART:20271107T080000
END:STANDARD
END:VTIMEZONE
BEGIN:VEVENT
DTSTART;TZID=America/Denver:20260421T180000
DTEND;TZID=America/Denver:20260421T200000
DTSTAMP:20260422T145048
CREATED:20250603T031855Z
LAST-MODIFIED:20250603T031855Z
UID:10001993-1776794400-1776801600@www.weldcountydems.org
SUMMARY:Greeley City Council Meeting
DESCRIPTION:
URL:https://www.weldcountydems.org/wcd-event/greeley-city-council-meeting-2/2026-04-21/
LOCATION:Greeley City Council\, 1100 10th Street\, Greeley\, CO\, 80631\, United States
CATEGORIES:City Council
ATTACH;FMTTYPE=image/jpeg:https://www.weldcountydems.org/wp-content/uploads/2025/03/new-city-council-nov-28-2023.jpg
END:VEVENT
BEGIN:VEVENT
DTSTART;TZID=America/Denver:20260423T173000
DTEND;TZID=America/Denver:20260423T190000
DTSTAMP:20260422T145048
CREATED:20260421T015828Z
LAST-MODIFIED:20260421T015828Z
UID:10002574-1776965400-1776970800@www.weldcountydems.org
SUMMARY:Meet and Greet for Shannon Bird
DESCRIPTION:You are invited to a Meet & Greet for Shannon Bird on Thursday\, April 23 at Frolic Brewing Company in Westminster from 5:30-7pm. The Democratic Primary is coming up June 30 – come hear from someone who has worked tirelessly for public education\, job creation\, small businesses\, reproductive rights\, and climate action! https://evite.me/grTEmu47t8 \nPLEASE JOIN US FOR A MEET & GREET WITH SHANNON BIRD \nCANDIDATE FOR CONGRESS IN COLORADO’S 8TH CONGRESSIONAL DISTRICT\nAT FROLIC BREWING COMPANY\n12910 ZUNI ST\, WESTMINSTER 80234\nThursday 4/23 from 5:30 -7pm
URL:https://www.weldcountydems.org/wcd-event/meet-and-greet-for-shannon-bird/
LOCATION:Frolic Brewing Company\, 12910 Zuni St\, Westminster\, 80234\, United States
ATTACH;FMTTYPE=image/jpeg:https://www.weldcountydems.org/wp-content/uploads/2026/04/Frolic-Flyer.jpg
END:VEVENT
BEGIN:VEVENT
DTSTART;TZID=America/Denver:20260423T180000
DTEND;TZID=America/Denver:20260423T200000
DTSTAMP:20260422T145048
CREATED:20260101T013100Z
LAST-MODIFIED:20260101T013100Z
UID:10002467-1776967200-1776974400@www.weldcountydems.org
SUMMARY:Executive Committee Meeting (Hybrid)
DESCRIPTION:Social time 6-6:30 \nCall to order 6:30 \nJoin in the office or via Zoom.
URL:https://www.weldcountydems.org/wcd-event/executive-committee-meeting-hybrid/2026-04-23/
LOCATION:Weld County Dems HQ\, 710 11th Ave Suite L-10\, Greeley\, CO\, 80631\, United States
CATEGORIES:Executive Committee Meeting,Virtual Event
ATTACH;FMTTYPE=image/png:https://www.weldcountydems.org/wp-content/uploads/2019/05/logo-wcdp-website-1.png
END:VEVENT
BEGIN:VEVENT
DTSTART;TZID=America/Denver:20260425T080000
DTEND;TZID=America/Denver:20260425T170000
DTSTAMP:20260422T145048
CREATED:20260421T190623Z
LAST-MODIFIED:20260421T190728Z
UID:10002584-1777104000-1777136400@www.weldcountydems.org
SUMMARY:Help Flip HD19 and CD8!
DESCRIPTION:Deep canvassing opportunity in Firestone on April 25th. \nWe have all three Democratic HD19 candidates in attendance at our deep canvass this weekend in Firestone. We are hoping to recruit volunteers to help out! \nhttps://docs.google.com/forms/d/e/1FAIpQLSeXgKv33csAKLdtAKrJKeDvzZDiHJyXfN9RV5GdD0bmKaBqgA/viewform
URL:https://www.weldcountydems.org/wcd-event/help-flip-hd19-and-cd8/
CATEGORIES:Canvass,Volunteer
ATTACH;FMTTYPE=image/jpeg:https://www.weldcountydems.org/wp-content/uploads/2026/04/deep-canvasing-4-25-26.jpg
END:VEVENT
BEGIN:VEVENT
DTSTART;TZID=America/Denver:20260425T110000
DTEND;TZID=America/Denver:20260425T113000
DTSTAMP:20260422T145048
CREATED:20260421T185708Z
LAST-MODIFIED:20260421T185708Z
UID:10002580-1777114800-1777116600@www.weldcountydems.org
SUMMARY:Volunteer Event - Yard Signs for Manny Rutinel for Congress
DESCRIPTION:Come join us to deliver yard signs with Team Manny this Saturday 4.25 at 11am from Lincoln Park in Greeley! Grab a Yard Sign for yourself and help get them in the yard’s of supporters across Weld County! \nSign up here: https://docs.google.com/forms/d/1yVKVVb9F66Y9oIisv8AjBiO2YCAdpXM8HRDptfuQm3c/edit
URL:https://www.weldcountydems.org/wcd-event/volunteer-event-yard-signs-for-manny-rutinel-for-congress/
LOCATION:Lincoln Park\, Lincoln Park\, Greeley\, CO\, 80631\, United States
CATEGORIES:Volunteer
ATTACH;FMTTYPE=image/jpeg:https://www.weldcountydems.org/wp-content/uploads/2026/02/manny-rutinel-cd-8-candidate-scaled.jpg
END:VEVENT
BEGIN:VEVENT
DTSTART;TZID=America/Denver:20260501T113000
DTEND;TZID=America/Denver:20260501T133000
DTSTAMP:20260422T145048
CREATED:20250608T164754Z
LAST-MODIFIED:20250701T225421Z
UID:10002197-1777635000-1777642200@www.weldcountydems.org
SUMMARY:Dems in Action
DESCRIPTION:Bring your lunch! Democratic party candidates are always welcome. \nIn the basement of the Greeley Building\, conference room (use the north entrance).
URL:https://www.weldcountydems.org/wcd-event/dems-in-action-2025-reocurring/2026-05-01/
LOCATION:Greeley Building\, 710 11th Ave\, Greeley\, CO\, 80631
CATEGORIES:Meeting
ATTACH;FMTTYPE=image/png:https://www.weldcountydems.org/wp-content/uploads/2025/03/dems-in-action-logo.png
END:VEVENT
BEGIN:VEVENT
DTSTART;TZID=America/Denver:20260502T100000
DTEND;TZID=America/Denver:20260502T120000
DTSTAMP:20260422T145048
CREATED:20250303T195835Z
LAST-MODIFIED:20250331T190341Z
UID:10000854-1777716000-1777723200@www.weldcountydems.org
SUMMARY:Court House Steps - Stand Up! Speak Up! Take Action!
DESCRIPTION:Join us in front of the Greeley courthouse at 10am on the first Saturday of every month. \nStand up! Speak up! Take Action!\n  \nEvery voice counts. Bring yourself and your friends! We look forward to seeing you there.  \n  \nNot affiliated with the Weld County Democratic Party 
URL:https://www.weldcountydems.org/wcd-event/court-house-steps-demonstration-stand-up-speak-out-take-action/2026-05-02/
LOCATION:Weld County Courthouse\, 901 9th Avenue\, Greeley\, CO\, 80631\, United States
CATEGORIES:Demonstration,Rally
ATTACH;FMTTYPE=image/jpeg:https://www.weldcountydems.org/wp-content/uploads/2025/02/Court-House-Steps-Flyer-002-scaled.jpg
END:VEVENT
BEGIN:VEVENT
DTSTART;TZID=America/Denver:20260503T110000
DTEND;TZID=America/Denver:20260503T170000
DTSTAMP:20260422T145048
CREATED:20260421T185918Z
LAST-MODIFIED:20260421T190825Z
UID:10002582-1777806000-1777827600@www.weldcountydems.org
SUMMARY:Door knocking with Manny Rutinel for Congress
DESCRIPTION:Come door knock with Manny Rutinel for Congress\, Sunday May 3rd\, 11am\, Lincoln Park\, Greeley. \nWe will be going door to door to talk with voters. Sign up here: https://docs.google.com/forms/d/e/1FAIpQLSccl48_48Pd68QuPXFr5o-qWHfAlEewjE_RsxrDQ6XGrMzE5w/viewform?usp=sharing&ouid=112355109097917387721
URL:https://www.weldcountydems.org/wcd-event/door-knocking-with-manny-rutinel-for-congress/
LOCATION:Lincoln Park\, Lincoln Park\, Greeley\, CO\, 80631\, United States
CATEGORIES:Canvass,Volunteer
ATTACH;FMTTYPE=image/jpeg:https://www.weldcountydems.org/wp-content/uploads/2026/02/manny-rutinel-cd-8-candidate-scaled.jpg
END:VEVENT
BEGIN:VEVENT
DTSTART;TZID=America/Denver:20260514T100000
DTEND;TZID=America/Denver:20260514T120000
DTSTAMP:20260422T145048
CREATED:20250411T030009Z
LAST-MODIFIED:20250411T030009Z
UID:10001856-1778752800-1778760000@www.weldcountydems.org
SUMMARY:Coffee and Conversation
DESCRIPTION:Come join a lively Democratic group for conversation and sharing. Good coffee and fellowship.
URL:https://www.weldcountydems.org/wcd-event/coffee-and-conversation-7/2026-05-14/
LOCATION:Blue Mug Coffee Bar\, 1923 59th Ave\, Greeley\, CO\, 80634
CATEGORIES:Meeting
ATTACH;FMTTYPE=image/jpeg:https://www.weldcountydems.org/wp-content/uploads/2025/04/coffee-cup.jpg
END:VEVENT
BEGIN:VEVENT
DTSTART;TZID=America/Denver:20260630T070000
DTEND;TZID=America/Denver:20260630T190000
DTSTAMP:20260422T145048
CREATED:20250913T175047Z
LAST-MODIFIED:20250913T175047Z
UID:10002274-1782802800-1782846000@www.weldcountydems.org
SUMMARY:Primary Election
DESCRIPTION:
URL:https://www.weldcountydems.org/wcd-event/primary-election/
CATEGORIES:Primary
ATTACH;FMTTYPE=image/jpeg:https://www.weldcountydems.org/wp-content/uploads/2019/09/vote-stickers.jpg
END:VEVENT
BEGIN:VEVENT
DTSTART;TZID=America/Denver:20260808T173000
DTEND;TZID=America/Denver:20260808T200000
DTSTAMP:20260422T145048
CREATED:20260227T024129Z
LAST-MODIFIED:20260227T024129Z
UID:10002543-1786210200-1786219200@www.weldcountydems.org
SUMMARY:Roosevelt Dinner
DESCRIPTION:Save the date!
URL:https://www.weldcountydems.org/wcd-event/roosevelt-dinner/
LOCATION:UNC Campus Commons\, 1051 22nd St.\, Greeley\, CO\, 80631\, United States
CATEGORIES:Fundraiser
END:VEVENT
END:VCALENDAR