BEGIN:VCALENDAR
VERSION:2.0
PRODID:-//Weld County Democratic Party - ECPv6.15.20//NONSGML v1.0//EN
CALSCALE:GREGORIAN
METHOD:PUBLISH
X-ORIGINAL-URL:https://www.weldcountydems.org/?lang=es
X-WR-CALDESC:Eventos para Weld County Democratic Party
REFRESH-INTERVAL;VALUE=DURATION:PT1H
X-Robots-Tag:noindex
X-PUBLISHED-TTL:PT1H
BEGIN:VTIMEZONE
TZID:America/Denver
BEGIN:DAYLIGHT
TZOFFSETFROM:-0700
TZOFFSETTO:-0600
TZNAME:MDT
DTSTART:20250309T090000
END:DAYLIGHT
BEGIN:STANDARD
TZOFFSETFROM:-0600
TZOFFSETTO:-0700
TZNAME:MST
DTSTART:20251102T080000
END:STANDARD
BEGIN:DAYLIGHT
TZOFFSETFROM:-0700
TZOFFSETTO:-0600
TZNAME:MDT
DTSTART:20260308T090000
END:DAYLIGHT
BEGIN:STANDARD
TZOFFSETFROM:-0600
TZOFFSETTO:-0700
TZNAME:MST
DTSTART:20261101T080000
END:STANDARD
BEGIN:DAYLIGHT
TZOFFSETFROM:-0700
TZOFFSETTO:-0600
TZNAME:MDT
DTSTART:20270314T090000
END:DAYLIGHT
BEGIN:STANDARD
TZOFFSETFROM:-0600
TZOFFSETTO:-0700
TZNAME:MST
DTSTART:20271107T080000
END:STANDARD
END:VTIMEZONE
BEGIN:VEVENT
DTSTART;TZID=America/Denver:20260504T180000
DTEND;TZID=America/Denver:20260504T193000
DTSTAMP:20260425T195437
CREATED:20250318T024233Z
LAST-MODIFIED:20251116T064623Z
UID:10001514-1777917600-1777923000@www.weldcountydems.org
SUMMARY:Reunión Ejecutiva de Weld Young Dems
DESCRIPTION:Si tienes 36 años o menos\, ¡ven con nosotros! \nReunión mensual para planificar la difusión\, los actos y los objetivos de la sección Weld Young Dems. Nos encantaría conocer tu activismo\, liderazgo comunitario y compromiso político. No dudes en traer un tentempié y un amigo\, cuantas más voces incluyamos más fuerte será nuestra coalición.   \nNos reunimos el primer lunes de cada mes de 18:00 a 19:30\, en la oficina de Weld Dems (710 11th Ave\, L-10\, Greeley CO 80631). La puerta estará cerrada\, busca el cartel en la puerta que da al sur y te dejaremos entrar.  \nEstamos en el edificio de oficinas de ladrillo rojo\, enfrente de Santiago’s y detrás de la UCCC. \n\n\n\n\n\n\n\nInstagram: https://www.instagram.com/weldyoungdems/ \nBluesky: https://bsky.app/profile/weldyoungdems.bsky.social
URL:https://www.weldcountydems.org/wcd-event/reunion-ejecutiva-de-weld-young-dems__trashed/2026-05-04/?lang=es
LOCATION:Oficina Demócrata del Condado de Weld\, 710 Avenida 11\, Greeley\, CO\, 80631\, United States
CATEGORIES:Reunión
ATTACH;FMTTYPE=image/png:https://www.weldcountydems.org/wp-content/uploads/2025/03/Weld-Young-Dems-1.png
ORGANIZER;CN="Weld J%C3%B3venes Dem%C3%B3cratas":MAILTO:weldyoungdems@aol.com
END:VEVENT
END:VCALENDAR