BEGIN:VCALENDAR
VERSION:2.0
PRODID:-//Weld County Democratic Party - ECPv6.15.20//NONSGML v1.0//EN
CALSCALE:GREGORIAN
METHOD:PUBLISH
X-ORIGINAL-URL:https://www.weldcountydems.org/?lang=es
X-WR-CALDESC:Eventos para Weld County Democratic Party
REFRESH-INTERVAL;VALUE=DURATION:PT1H
X-Robots-Tag:noindex
X-PUBLISHED-TTL:PT1H
BEGIN:VTIMEZONE
TZID:America/Denver
BEGIN:DAYLIGHT
TZOFFSETFROM:-0700
TZOFFSETTO:-0600
TZNAME:MDT
DTSTART:20250309T090000
END:DAYLIGHT
BEGIN:STANDARD
TZOFFSETFROM:-0600
TZOFFSETTO:-0700
TZNAME:MST
DTSTART:20251102T080000
END:STANDARD
BEGIN:DAYLIGHT
TZOFFSETFROM:-0700
TZOFFSETTO:-0600
TZNAME:MDT
DTSTART:20260308T090000
END:DAYLIGHT
BEGIN:STANDARD
TZOFFSETFROM:-0600
TZOFFSETTO:-0700
TZNAME:MST
DTSTART:20261101T080000
END:STANDARD
BEGIN:DAYLIGHT
TZOFFSETFROM:-0700
TZOFFSETTO:-0600
TZNAME:MDT
DTSTART:20270314T090000
END:DAYLIGHT
BEGIN:STANDARD
TZOFFSETFROM:-0600
TZOFFSETTO:-0700
TZNAME:MST
DTSTART:20271107T080000
END:STANDARD
END:VTIMEZONE
BEGIN:VEVENT
DTSTART;TZID=America/Denver:20260503T110000
DTEND;TZID=America/Denver:20260503T170000
DTSTAMP:20260425T114327
CREATED:20260421T185918Z
LAST-MODIFIED:20260421T185918Z
UID:10002583-1777806000-1777827600@www.weldcountydems.org
SUMMARY:Llamando a la puerta con Manny Rutinel para el Congreso
DESCRIPTION:Ven a llamar a la puerta con Manny Rutinel para el Congreso\, domingo 3 de mayo\, 11h\, Lincoln Park\, Greeley. \nIremos puerta por puerta para hablar con los votantes. Inscríbete aquí: https://docs.google.com/forms/d/e/1FAIpQLSccl48_48Pd68QuPXFr5o-qWHfAlEewjE_RsxrDQ6XGrMzE5w/viewform?usp=sharing&ouid=112355109097917387721
URL:https://www.weldcountydems.org/wcd-event/llamando-a-la-puerta-con-manny-rutinel-para-el-congreso/?lang=es
LOCATION:Parque Lincoln\, Parque Lincoln\, Greeley\, CO\, 80631\, United States
CATEGORIES:Escrutinio,Voluntario
ATTACH;FMTTYPE=image/jpeg:https://www.weldcountydems.org/wp-content/uploads/2026/02/manny-rutinel-cd-8-candidate-scaled.jpg
END:VEVENT
END:VCALENDAR