BEGIN:VCALENDAR
VERSION:2.0
PRODID:-//Weld County Democratic Party - ECPv6.15.20//NONSGML v1.0//EN
CALSCALE:GREGORIAN
METHOD:PUBLISH
X-ORIGINAL-URL:https://www.weldcountydems.org/?lang=es
X-WR-CALDESC:Eventos para Weld County Democratic Party
REFRESH-INTERVAL;VALUE=DURATION:PT1H
X-Robots-Tag:noindex
X-PUBLISHED-TTL:PT1H
BEGIN:VTIMEZONE
TZID:America/Denver
BEGIN:DAYLIGHT
TZOFFSETFROM:-0700
TZOFFSETTO:-0600
TZNAME:MDT
DTSTART:20250309T090000
END:DAYLIGHT
BEGIN:STANDARD
TZOFFSETFROM:-0600
TZOFFSETTO:-0700
TZNAME:MST
DTSTART:20251102T080000
END:STANDARD
BEGIN:DAYLIGHT
TZOFFSETFROM:-0700
TZOFFSETTO:-0600
TZNAME:MDT
DTSTART:20260308T090000
END:DAYLIGHT
BEGIN:STANDARD
TZOFFSETFROM:-0600
TZOFFSETTO:-0700
TZNAME:MST
DTSTART:20261101T080000
END:STANDARD
BEGIN:DAYLIGHT
TZOFFSETFROM:-0700
TZOFFSETTO:-0600
TZNAME:MDT
DTSTART:20270314T090000
END:DAYLIGHT
BEGIN:STANDARD
TZOFFSETFROM:-0600
TZOFFSETTO:-0700
TZNAME:MST
DTSTART:20271107T080000
END:STANDARD
END:VTIMEZONE
BEGIN:VEVENT
DTSTART;TZID=America/Denver:20260502T100000
DTEND;TZID=America/Denver:20260502T120000
DTSTAMP:20260425T132817
CREATED:20250303T195835Z
LAST-MODIFIED:20250303T195835Z
UID:10001271-1777716000-1777723200@www.weldcountydems.org
SUMMARY:Escaleras del Palacio de Justicia - ¡Levántate! Alza la voz Actúa
DESCRIPTION:Únete a nosotros frente al juzgado de Greeley a las 10 de la mañana el primer sábado de cada mes. \n¡Levántate! ¡Levántate! Actúa  \n  \nCada voz cuenta. ¡Tráete a ti mismo y a tus amigos! Esperamos verte allí.     \n  \nNo afiliado al Partido Demócrata del Condado de Weld
URL:https://www.weldcountydems.org/wcd-event/escaleras-del-palacio-de-justicia-levantate-alza-la-voz-actua/2026-05-02/?lang=es
LOCATION:Juzgado del Condado de Weld\, 901 9ª Avenida\, Greeley\, CO\, 80631\, United States
CATEGORIES:Demostración,Rally
ATTACH;FMTTYPE=image/jpeg:https://www.weldcountydems.org/wp-content/uploads/2025/02/Court-House-Steps-Flyer-002-scaled.jpg
END:VEVENT
END:VCALENDAR